BEGIN:VCALENDAR
VERSION:2.0
PRODID:-//AI and Equality - ECPv6.13.2.1//NONSGML v1.0//EN
CALSCALE:GREGORIAN
METHOD:PUBLISH
X-WR-CALNAME:AI and Equality
X-ORIGINAL-URL:https://aiequalitytoolbox.com
X-WR-CALDESC:Events for AI and Equality
REFRESH-INTERVAL;VALUE=DURATION:PT1H
X-Robots-Tag:noindex
X-PUBLISHED-TTL:PT1H
BEGIN:VTIMEZONE
TZID:Europe/Zurich
BEGIN:DAYLIGHT
TZOFFSETFROM:+0100
TZOFFSETTO:+0200
TZNAME:CEST
DTSTART:20250330T010000
END:DAYLIGHT
BEGIN:STANDARD
TZOFFSETFROM:+0200
TZOFFSETTO:+0100
TZNAME:CET
DTSTART:20251026T010000
END:STANDARD
END:VTIMEZONE
BEGIN:VEVENT
DTSTART;TZID=Europe/Zurich:20251006T150000
DTEND;TZID=Europe/Zurich:20251006T160000
DTSTAMP:20260424T025929
CREATED:20250813T075207Z
LAST-MODIFIED:20250828T092111Z
UID:10000005-1759762800-1759766400@aiequalitytoolbox.com
SUMMARY:The African AI & Equality Toolbox Webinar 2: System Requirements
DESCRIPTION:In many African AI deployments\, system requirements are defined by international technical partners or funders\, often without fully understanding the day-to-day realities of use. This leads to design choices—like requiring high-speed internet\, English-only interfaces\, or complex interfaces—that make tools ineffective or even harmful. In this webinar we look at how requirement setting should function as a bridge between vision and use: Aligning system features with cultural context\, infrastructure gaps\, and social expectations; Identifying constraints early on—connectivity\, literacy\, consent\, power dynamics—and building around them and making conscious trade-offs between speed\, scale\, and equity. \n \n  \nThe African AI & Equality Toolbox is a strategic initiative designed to empower African stakeholders—policymakers\, technologists\, civil society actors\, and communities—to shape Artificial Intelligence (AI) systems that are contextually relevant\, inclusive\, and grounded in human rights. \nDeveloped by Women at the Table and the African Centre for Technology Studies (ACTS)\, and adapted from the global AI & Equality Human Rights Toolbox Initiative in collaboration with the UN Office of the High Commissioner for Human Rights (OHCHR)\, this African iteration provides practical tools and methodologies to guide equitable AI development across the continent. \nThe Toolbox applies a Human Rights-based AI Lifecycle Framework\, integrating reflective questions and the Human Rights Impact Assessment (HRIA) developed with the Alan Turing Institute. It emphasizes participatory\, multidisciplinary approaches and is rooted in feminist\, decolonial\, and Justice\, Equity\, Diversity\, and Inclusion (JEDI) principles and incorporates lessons from emerging digital rights challenges\, ensuring AI systems are designed with safety and dignity at their core. \n1PM GMT | 3PM SAST | 4PM EAT \nRegister here \n 
URL:https://aiequalitytoolbox.com/event/the-african-ai-equality-toolbox-webinar-2-systems-requirements/
ATTACH;FMTTYPE=image/jpeg:https://aiequalitytoolbox.com/wp-content/uploads/2025/08/AI-EQ-Toolbox-black-w-gradient-scaled.jpg
END:VEVENT
END:VCALENDAR