BEGIN:VCALENDAR
VERSION:2.0
PRODID:-//AI and Equality - ECPv6.13.2.1//NONSGML v1.0//EN
CALSCALE:GREGORIAN
METHOD:PUBLISH
X-ORIGINAL-URL:https://aiequalitytoolbox.com
X-WR-CALDESC:Events for AI and Equality
REFRESH-INTERVAL;VALUE=DURATION:PT1H
X-Robots-Tag:noindex
X-PUBLISHED-TTL:PT1H
BEGIN:VTIMEZONE
TZID:Europe/Zurich
BEGIN:DAYLIGHT
TZOFFSETFROM:+0100
TZOFFSETTO:+0200
TZNAME:CEST
DTSTART:20250330T010000
END:DAYLIGHT
BEGIN:STANDARD
TZOFFSETFROM:+0200
TZOFFSETTO:+0100
TZNAME:CET
DTSTART:20251026T010000
END:STANDARD
END:VTIMEZONE
BEGIN:VEVENT
DTSTART;TZID=Europe/Zurich:20251119T150000
DTEND;TZID=Europe/Zurich:20251119T160000
DTSTAMP:20260424T012830
CREATED:20250816T100802Z
LAST-MODIFIED:20251113T111911Z
UID:10000014-1763564400-1763568000@aiequalitytoolbox.com
SUMMARY:The Latin American AI & Equality Toolbox Launch
DESCRIPTION:We have partnered with the Chilean Centro Nacional de Inteligencia Artificial\, CENIA\,  to co-construct a Latin American Spanish language version of the validated <AI & Equality> Toolbox\, with use cases relevant to the regional experience. The partnership builds on the learnings from the workshop structure and outreach from the African <AI & Equality> Toolbox.\n\n\nTranslating and adapting tools like the <AI & Equality> Human Rights Toolbox can facilitate the co-creation of a common vocabulary and common understanding on the specific needs and challenges of each region of the world\, unlocking informed debates about their visions for data with purpose and collaboratively finding examples of regional use cases of AI. \n\nRegister here 
URL:https://aiequalitytoolbox.com/event/the-latin-american-ai-equality-toolbox-launch/
ATTACH;FMTTYPE=image/png:https://aiequalitytoolbox.com/wp-content/uploads/2025/08/AI-EQ-LAC-logo.png
END:VEVENT
END:VCALENDAR