BEGIN:VCALENDAR
VERSION:2.0
PRODID:-//AI and Equality - ECPv6.13.2.1//NONSGML v1.0//EN
CALSCALE:GREGORIAN
METHOD:PUBLISH
X-ORIGINAL-URL:https://aiequalitytoolbox.com
X-WR-CALDESC:Events for AI and Equality
REFRESH-INTERVAL;VALUE=DURATION:PT1H
X-Robots-Tag:noindex
X-PUBLISHED-TTL:PT1H
BEGIN:VTIMEZONE
TZID:Europe/London
BEGIN:DAYLIGHT
TZOFFSETFROM:+0000
TZOFFSETTO:+0100
TZNAME:BST
DTSTART:20260329T010000
END:DAYLIGHT
BEGIN:STANDARD
TZOFFSETFROM:+0100
TZOFFSETTO:+0000
TZNAME:GMT
DTSTART:20261025T010000
END:STANDARD
END:VTIMEZONE
BEGIN:VEVENT
DTSTART;TZID=Europe/London:20260618T150000
DTEND;TZID=Europe/London:20260618T160000
DTSTAMP:20260420T192041
CREATED:20260218T104221Z
LAST-MODIFIED:20260218T104221Z
UID:10000030-1781794800-1781798400@aiequalitytoolbox.com
SUMMARY:Hidden Inequality: Why We Need to Talk About AI in the Global South with Renata Frade | AI & Equality Open Studio
DESCRIPTION:Artificial Intelligence systems increasingly shape social participation\, labor\, visibility and access to rights. However\, the social impacts of AI are uneven\, often reinforcing existing inequalities — particularly for women and communities in the Global South. \nThis 30-minute talk is grounded in two complementary research trajectories:\n(1) extensive digital ethnography with 247 women-led technology communities\, focused on platforms\, communication\, participation and power (not AI-specific)\, and (2) parallel academic studies on AI\, inequality and the Global South\, examining how automated systems interact with structural asymmetries\, governance gaps and cultural contexts. \nRather than presenting a technical or proprietary AI framework\, the talk offers critical insights and reflective lenses on how AI becomes socially invisible\, how inequality is reproduced through discourse and design\, and why communication is central to a human-rights-based approach to AI. \nKey Themes:\n\nWhat Platform Research Reveals About Power and Visibility\nInsights from digital ethnography with 247 women-led tech communities\nPatterns of participation\, exclusion and symbolic inclusion in digital platforms\nWhy these dynamics matter when AI is introduced into social and institutional systems\nAI and Inequality from a Global South Perspective\nFindings from research on AI\, gender and structural inequality in the Global South\nAsymmetries in data\, labor\, governance and technological dependency\nThe risks of applying “universal” AI solutions without contextual grounding\nCommunication as a Human Rights Issue in AI Systems\nHow language\, interfaces and narratives shape accountability\nWhy transparency alone is insufficient without accessibility and participation\nThe role of critical literacy in rights-based AI approaches\n\n\n🔗 Explore publication: Frade\, R.\, Wajcman\, J. (2023). “Feminism and Technology: an interview with Dr. Judy Wajcman by Renata Frade”. In Technofeminism: multi and transdisciplinary contemporary views of women in technology.  https://doi.org/10.48528/0wyd-p294 \nAbout the speaker:\nI am an interdisciplinary feminist researcher with deep experience in advancing feminist\, decolonial\, and participatory ethics in technology\, particularly across Latin American and Lusophone contexts. My doctoral research mapped and analyzed 247 communities of women in technology in Brazil and Portugal\, applying participatory and justice-oriented methods designed to center marginalized voices—often those of adolescents and youth in vulnerable contexts. Through projects such as Fiocruz Hack Girls and the LitGirlsBr platform\, I have engaged directly with adolescent participants\, developing empowering digital literacy and inclusion programs.\n\nI have acted as co-editor and lead organizer for several transnational research outputs\, including the collective volume “Technofeminism” and global solidarity events like the WeColloquium at ISEG\, Lisbon. My work always seeks to foreground community voices\, relational ethics\, and participatory decision-making\, including direct experience with reviewing and designing ethical frameworks for HCI and responsible AI\, both within and outside formal IRB structures. Noted for mapping and empowering women-in-tech communities\, producing influential feminist research\, and engaging in ethics\, justice\, and participatory action.\n\nExperienced in editorial leadership\, transmedia projects\, and collective knowledge-making in both academic and NGO settings (such as Girls in Tech Brazil).\n\n\n\nRegister here via our community on Circle
URL:https://aiequalitytoolbox.com/event/hidden-inequality-why-we-need-to-talk-about-ai-in-the-global-south-with-renata-frade-ai-equality-open-studio/
ATTACH;FMTTYPE=image/png:https://aiequalitytoolbox.com/wp-content/uploads/2026/02/8.png
END:VEVENT
END:VCALENDAR